BEGIN:VCALENDAR
VERSION:2.0
PRODID:-//Achilleus - ECPv6.15.20//NONSGML v1.0//EN
CALSCALE:GREGORIAN
METHOD:PUBLISH
X-ORIGINAL-URL:https://achilleus-sauna.de
X-WR-CALDESC:Veranstaltungen für Achilleus
REFRESH-INTERVAL;VALUE=DURATION:PT1H
X-Robots-Tag:noindex
X-PUBLISHED-TTL:PT1H
BEGIN:VTIMEZONE
TZID:Europe/Berlin
BEGIN:DAYLIGHT
TZOFFSETFROM:+0100
TZOFFSETTO:+0200
TZNAME:CEST
DTSTART:20240331T010000
END:DAYLIGHT
BEGIN:STANDARD
TZOFFSETFROM:+0200
TZOFFSETTO:+0100
TZNAME:CET
DTSTART:20241027T010000
END:STANDARD
BEGIN:DAYLIGHT
TZOFFSETFROM:+0100
TZOFFSETTO:+0200
TZNAME:CEST
DTSTART:20250330T010000
END:DAYLIGHT
BEGIN:STANDARD
TZOFFSETFROM:+0200
TZOFFSETTO:+0100
TZNAME:CET
DTSTART:20251026T010000
END:STANDARD
BEGIN:DAYLIGHT
TZOFFSETFROM:+0100
TZOFFSETTO:+0200
TZNAME:CEST
DTSTART:20260329T010000
END:DAYLIGHT
BEGIN:STANDARD
TZOFFSETFROM:+0200
TZOFFSETTO:+0100
TZNAME:CET
DTSTART:20261025T010000
END:STANDARD
END:VTIMEZONE
BEGIN:VEVENT
DTSTART;VALUE=DATE:20251202
DTEND;VALUE=DATE:20251203
DTSTAMP:20260421T130217
CREATED:20251112T155230Z
LAST-MODIFIED:20251112T155230Z
UID:10009292-1764633600-1764719999@achilleus-sauna.de
SUMMARY:Geschlossen wegen unserer Mitarbeiter-Weihnachtsfeier 🎄
DESCRIPTION:Am Dienstag\, den 2. Dezember\, bleibt die Achilleus Sauna den ganzen Tag geschlossen.\n \n  \nUnser Team feiert gemeinsam seine Weihnachtsfeier – ab Mittwoch\, 03.12.2025 sind wir wie gewohnt wieder für euch da. \n  \n\nOn Tuesday\, December 2\, Achilleus Sauna will be closed all day.\nOur team will be celebrating its Christmas party together—we will be back as usual on Wednesday\, December 3\, 2025. \n 
URL:https://achilleus-sauna.de/event/geschlossen-wegen-unserer-mitarbeiter-weihnachtsfeier-%f0%9f%8e%84
LOCATION:Bayern
CATEGORIES:AchilleusGaySpecials,Achilleus Aufgussplan
ATTACH;FMTTYPE=image/jpeg:https://achilleus-sauna.de/wp-content/uploads/2025/11/Achilleus-Weihnachtsmann-e1762962558988.jpg
END:VEVENT
END:VCALENDAR