BEGIN:VCALENDAR
VERSION:2.0
PRODID:-//Achilleus - ECPv6.15.20//NONSGML v1.0//EN
CALSCALE:GREGORIAN
METHOD:PUBLISH
X-ORIGINAL-URL:https://achilleus-sauna.de
X-WR-CALDESC:Veranstaltungen für Achilleus
REFRESH-INTERVAL;VALUE=DURATION:PT1H
X-Robots-Tag:noindex
X-PUBLISHED-TTL:PT1H
BEGIN:VTIMEZONE
TZID:Europe/Berlin
BEGIN:DAYLIGHT
TZOFFSETFROM:+0100
TZOFFSETTO:+0200
TZNAME:CEST
DTSTART:20240331T010000
END:DAYLIGHT
BEGIN:STANDARD
TZOFFSETFROM:+0200
TZOFFSETTO:+0100
TZNAME:CET
DTSTART:20241027T010000
END:STANDARD
BEGIN:DAYLIGHT
TZOFFSETFROM:+0100
TZOFFSETTO:+0200
TZNAME:CEST
DTSTART:20250330T010000
END:DAYLIGHT
BEGIN:STANDARD
TZOFFSETFROM:+0200
TZOFFSETTO:+0100
TZNAME:CET
DTSTART:20251026T010000
END:STANDARD
BEGIN:DAYLIGHT
TZOFFSETFROM:+0100
TZOFFSETTO:+0200
TZNAME:CEST
DTSTART:20260329T010000
END:DAYLIGHT
BEGIN:STANDARD
TZOFFSETFROM:+0200
TZOFFSETTO:+0100
TZNAME:CET
DTSTART:20261025T010000
END:STANDARD
END:VTIMEZONE
BEGIN:VEVENT
DTSTART;TZID=Europe/Berlin:20251219T130000
DTEND;TZID=Europe/Berlin:20251220T020000
DTSTAMP:20260423T121758
CREATED:20251115T173620Z
LAST-MODIFIED:20251115T173621Z
UID:10001703-1766149200-1766196000@achilleus-sauna.de
SUMMARY:FREITAG - ACHILLEUS YOUNGSTERS
DESCRIPTION:Alle Youngsters bis einschließlich 26 Jahre zahlen freitags nur 14\,50 € Eintritt! Natürlich dürfen auch alle anderen Kerle die schon über 26 Jahre alt sind zu uns kommen!!! \nBitte halte deinen Ausweis bereit. \n  \nGilt nicht an Feiertagen!
URL:https://achilleus-sauna.de/event/freitag-achilleus-youngsters-4-4
CATEGORIES:Standart
ATTACH;FMTTYPE=image/jpeg:https://achilleus-sauna.de/wp-content/uploads/2023/12/04_Youngsters_1080x1080px4.jpg
END:VEVENT
END:VCALENDAR