BEGIN:VCALENDAR
VERSION:2.0
PRODID:-//Achilleus - ECPv6.15.20//NONSGML v1.0//EN
CALSCALE:GREGORIAN
METHOD:PUBLISH
X-WR-CALNAME:Achilleus
X-ORIGINAL-URL:https://achilleus-sauna.de
X-WR-CALDESC:Veranstaltungen für Achilleus
REFRESH-INTERVAL;VALUE=DURATION:PT1H
X-Robots-Tag:noindex
X-PUBLISHED-TTL:PT1H
BEGIN:VTIMEZONE
TZID:Europe/Berlin
BEGIN:DAYLIGHT
TZOFFSETFROM:+0100
TZOFFSETTO:+0200
TZNAME:CEST
DTSTART:20250330T010000
END:DAYLIGHT
BEGIN:STANDARD
TZOFFSETFROM:+0200
TZOFFSETTO:+0100
TZNAME:CET
DTSTART:20251026T010000
END:STANDARD
BEGIN:DAYLIGHT
TZOFFSETFROM:+0100
TZOFFSETTO:+0200
TZNAME:CEST
DTSTART:20260329T010000
END:DAYLIGHT
BEGIN:STANDARD
TZOFFSETFROM:+0200
TZOFFSETTO:+0100
TZNAME:CET
DTSTART:20261025T010000
END:STANDARD
BEGIN:DAYLIGHT
TZOFFSETFROM:+0100
TZOFFSETTO:+0200
TZNAME:CEST
DTSTART:20270328T010000
END:DAYLIGHT
BEGIN:STANDARD
TZOFFSETFROM:+0200
TZOFFSETTO:+0100
TZNAME:CET
DTSTART:20271031T010000
END:STANDARD
END:VTIMEZONE
BEGIN:VEVENT
DTSTART;TZID=Europe/Berlin:20260102T130000
DTEND;TZID=Europe/Berlin:20260103T020000
DTSTAMP:20260421T112146
CREATED:20251115T174114Z
LAST-MODIFIED:20251115T175145Z
UID:10009330-1767358800-1767405600@achilleus-sauna.de
SUMMARY:FREITAG - ACHILLEUS YOUNGSTERS
DESCRIPTION:Alle Youngsters bis einschließlich 26 Jahre zahlen freitags nur 14\,50 € Eintritt! Natürlich dürfen auch alle anderen Kerle die schon über 26 Jahre alt sind zu uns kommen!!! \nBitte halte deinen Ausweis bereit. \n  \nGilt nicht an Feiertagen!
URL:https://achilleus-sauna.de/event/freitag-achilleus-youngsters-9/2026-01-02
LOCATION:Bayern
CATEGORIES:Standart
ATTACH;FMTTYPE=image/jpeg:https://achilleus-sauna.de/wp-content/uploads/2023/12/04_Youngsters_1080x1080px4.jpg
END:VEVENT
BEGIN:VEVENT
DTSTART;TZID=Europe/Berlin:20260103T130000
DTEND;TZID=Europe/Berlin:20260104T020000
DTSTAMP:20260421T112146
CREATED:20251204T132105Z
LAST-MODIFIED:20251204T132106Z
UID:10007282-1767445200-1767492000@achilleus-sauna.de
SUMMARY:🐻🐾 Bären & Otter Zone – RELOADED 🐾🦦
DESCRIPTION:Jeden 1. Samstag im Monat heißt’s wieder: Bären & Otter Zone – für alle\, die auf kräftige\, behaarte Männer und charmante Otter stehen.\nJetzt unter neuen Regeln: kein Special-Preis mehr – aber mit extra Genuss!Zwischen 18:00–20:00 Uhr gibt’s eine kleine warme Stärkung gratis (solange Vorrat reicht). \n13:00 – 02:00 Uhr | Volle männliche Energie I Badeschluss: 1:30 Uhr \nAchilleus Sauna – Wo Bären brummen & Otter spielen. 🦦🔥 \n\n+++++++++++++++++++++++++++++++++++++++++++++++++++++\nEvery first Saturday of the month\, it’s time for Bear & Otter Zone – for everyone who likes strong\, hairy men and charming otters.\nNow with new rules: no more special prices – but with extra enjoyment!\nBetween 6:00 p.m. and 8:00 p.m.\, there will be a small hot snack for free (while supplies last). \n1:00 p.m. – 2:00 a.m. | Full male energy I Bathing ends at 1:30 a.m.Achilleus Sauna – Where bears growl & otters play. 🦦🔥
URL:https://achilleus-sauna.de/event/baeren-otter-zone-2-3-2/2026-01-03
LOCATION:Bayern
CATEGORIES:Standart,bearen,AchilleusGaySpecials
ATTACH;FMTTYPE=image/png:https://achilleus-sauna.de/wp-content/uploads/2024/05/Baeren-Otter-Zone-Neu.png
END:VEVENT
END:VCALENDAR